BEGIN:VCALENDAR
VERSION:2.0
PRODID:-//Crested Butte + Gunnison - ECPv6.15.20//NONSGML v1.0//EN
CALSCALE:GREGORIAN
METHOD:PUBLISH
X-ORIGINAL-URL:https://gunnisoncrestedbutte.com
X-WR-CALDESC:Events for Crested Butte + Gunnison
REFRESH-INTERVAL;VALUE=DURATION:PT1H
X-Robots-Tag:noindex
X-PUBLISHED-TTL:PT1H
BEGIN:VTIMEZONE
TZID:America/Denver
BEGIN:DAYLIGHT
TZOFFSETFROM:-0700
TZOFFSETTO:-0600
TZNAME:MDT
DTSTART:20250309T090000
END:DAYLIGHT
BEGIN:STANDARD
TZOFFSETFROM:-0600
TZOFFSETTO:-0700
TZNAME:MST
DTSTART:20251102T080000
END:STANDARD
BEGIN:DAYLIGHT
TZOFFSETFROM:-0700
TZOFFSETTO:-0600
TZNAME:MDT
DTSTART:20260308T090000
END:DAYLIGHT
BEGIN:STANDARD
TZOFFSETFROM:-0600
TZOFFSETTO:-0700
TZNAME:MST
DTSTART:20261101T080000
END:STANDARD
BEGIN:DAYLIGHT
TZOFFSETFROM:-0700
TZOFFSETTO:-0600
TZNAME:MDT
DTSTART:20270314T090000
END:DAYLIGHT
BEGIN:STANDARD
TZOFFSETFROM:-0600
TZOFFSETTO:-0700
TZNAME:MST
DTSTART:20271107T080000
END:STANDARD
END:VTIMEZONE
BEGIN:VEVENT
DTSTART;TZID=America/Denver:20260904T180000
DTEND;TZID=America/Denver:20260904T200000
DTSTAMP:20260422T021318
CREATED:20260421T183946Z
LAST-MODIFIED:20260421T184044Z
UID:57340-1788544800-1788552000@gunnisoncrestedbutte.com
SUMMARY:Exhibit Opening Reception
DESCRIPTION:Join us for an evening celebrating the distinct visions of artists Katie Briggs and Becka Jahelka in the Ascent & Confluence Exhibit Rooms at Terrible Mountain Gallery. * Charcuterie Provided
URL:https://gunnisoncrestedbutte.com/event/exhibit-opening-reception-2/
LOCATION:Terrible Mountain Gallery\, 409 Main St\, Pitkin\, CO\, 81241\, United States
CATEGORIES:Arts,Culture & Heritage,Family-Friendly,Free,Performances & Shows
ATTACH;FMTTYPE=image/jpeg:https://gunnisoncrestedbutte.com/wp-content/uploads/Katie20Headshot-Y0rGdq.jpg
END:VEVENT
BEGIN:VEVENT
DTSTART;TZID=America/Denver:20260908T090000
DTEND;TZID=America/Denver:20260908T100000
DTSTAMP:20260422T021318
CREATED:20260421T184001Z
LAST-MODIFIED:20260421T184048Z
UID:57349-1788858000-1788861600@gunnisoncrestedbutte.com
SUMMARY:Art of Alignment
DESCRIPTION:In the heart of the Quartz Creek Valley\, where the echoes of history meet the stillness of the wild\, we invite you to find your center. Held within the walls of a historic 1898 saloon turned fine art gallery\, The Art of Alignment is more than a yoga class-it is a weekly sanctuary for those seeking purpose\, precision\, and presence in this remote landscape. Every Tuesday morning Terrible Mountain Gallery transforms into a space of intentional movement. Surrounded by curated art and the rugged beauty of the Fossil Ridge Wilderness\, these sessions offer a rare opportunity to practice in a setting that honors both the creative power of the human spirit and the stark beauty of the natural world. Led by Desirae Penton-Crosley\, Dragon Asana is rooted in the philosophy of the I Ching\, where the Dragon represents Creative Power. This method combines exact alignment with mindful inquiry\, guiding you through a practice that is both disciplined and deeply attentive. Whether you are a local resident or a traveler passing through our high-country home\, these classes provide the tools to cultivate resilience and lasting transformation on and off the mat.
URL:https://gunnisoncrestedbutte.com/event/art-of-alignment-5/
LOCATION:Terrible Mountain Gallery\, 409 Main St\, Pitkin\, CO\, 81241\, United States
CATEGORIES:Classes & Lectures,Education,Family-Friendly,Teen
ATTACH;FMTTYPE=image/jpeg:https://gunnisoncrestedbutte.com/wp-content/uploads/IMG_42309-ypvLVA.jpg
END:VEVENT
BEGIN:VEVENT
DTSTART;TZID=America/Denver:20260915T090000
DTEND;TZID=America/Denver:20260915T100000
DTSTAMP:20260422T021318
CREATED:20260421T184242Z
LAST-MODIFIED:20260421T184242Z
UID:57403-1789462800-1789466400@gunnisoncrestedbutte.com
SUMMARY:Art of Alignment
DESCRIPTION:In the heart of the Quartz Creek Valley\, where the echoes of history meet the stillness of the wild\, we invite you to find your center. Held within the walls of a historic 1898 saloon turned fine art gallery\, The Art of Alignment is more than a yoga class-it is a weekly sanctuary for those seeking purpose\, precision\, and presence in this remote landscape. Every Tuesday morning Terrible Mountain Gallery transforms into a space of intentional movement. Surrounded by curated art and the rugged beauty of the Fossil Ridge Wilderness\, these sessions offer a rare opportunity to practice in a setting that honors both the creative power of the human spirit and the stark beauty of the natural world. Led by Desirae Penton-Crosley\, Dragon Asana is rooted in the philosophy of the I Ching\, where the Dragon represents Creative Power. This method combines exact alignment with mindful inquiry\, guiding you through a practice that is both disciplined and deeply attentive. Whether you are a local resident or a traveler passing through our high-country home\, these classes provide the tools to cultivate resilience and lasting transformation on and off the mat.
URL:https://gunnisoncrestedbutte.com/event/art-of-alignment-12/
LOCATION:Terrible Mountain Gallery\, 409 Main St\, Pitkin\, CO\, 81241\, United States
CATEGORIES:Classes & Lectures,Education,Family-Friendly,Teen
ATTACH;FMTTYPE=image/jpeg:https://gunnisoncrestedbutte.com/wp-content/uploads/IMG_423010-6t0kTU.jpg
END:VEVENT
BEGIN:VEVENT
DTSTART;TZID=America/Denver:20260922T090000
DTEND;TZID=America/Denver:20260922T100000
DTSTAMP:20260422T021318
CREATED:20260421T184003Z
LAST-MODIFIED:20260421T184049Z
UID:57350-1790067600-1790071200@gunnisoncrestedbutte.com
SUMMARY:Art of Alignment
DESCRIPTION:In the heart of the Quartz Creek Valley\, where the echoes of history meet the stillness of the wild\, we invite you to find your center. Held within the walls of a historic 1898 saloon turned fine art gallery\, The Art of Alignment is more than a yoga class-it is a weekly sanctuary for those seeking purpose\, precision\, and presence in this remote landscape. Every Tuesday morning Terrible Mountain Gallery transforms into a space of intentional movement. Surrounded by curated art and the rugged beauty of the Fossil Ridge Wilderness\, these sessions offer a rare opportunity to practice in a setting that honors both the creative power of the human spirit and the stark beauty of the natural world. Led by Desirae Penton-Crosley\, Dragon Asana is rooted in the philosophy of the I Ching\, where the Dragon represents Creative Power. This method combines exact alignment with mindful inquiry\, guiding you through a practice that is both disciplined and deeply attentive. Whether you are a local resident or a traveler passing through our high-country home\, these classes provide the tools to cultivate resilience and lasting transformation on and off the mat.
URL:https://gunnisoncrestedbutte.com/event/art-of-alignment-6/
LOCATION:Terrible Mountain Gallery\, 409 Main St\, Pitkin\, CO\, 81241\, United States
CATEGORIES:Classes & Lectures,Education,Family-Friendly,Teen
ATTACH;FMTTYPE=image/jpeg:https://gunnisoncrestedbutte.com/wp-content/uploads/IMG_423011-fnfCRv.jpg
END:VEVENT
END:VCALENDAR