BEGIN:VCALENDAR
VERSION:2.0
PRODID:-//Crested Butte + Gunnison - ECPv6.15.20//NONSGML v1.0//EN
CALSCALE:GREGORIAN
METHOD:PUBLISH
X-WR-CALNAME:Crested Butte + Gunnison
X-ORIGINAL-URL:https://gunnisoncrestedbutte.com
X-WR-CALDESC:Events for Crested Butte + Gunnison
REFRESH-INTERVAL;VALUE=DURATION:PT1H
X-Robots-Tag:noindex
X-PUBLISHED-TTL:PT1H
BEGIN:VTIMEZONE
TZID:America/Denver
BEGIN:DAYLIGHT
TZOFFSETFROM:-0700
TZOFFSETTO:-0600
TZNAME:MDT
DTSTART:20240310T090000
END:DAYLIGHT
BEGIN:STANDARD
TZOFFSETFROM:-0600
TZOFFSETTO:-0700
TZNAME:MST
DTSTART:20241103T080000
END:STANDARD
BEGIN:DAYLIGHT
TZOFFSETFROM:-0700
TZOFFSETTO:-0600
TZNAME:MDT
DTSTART:20250309T090000
END:DAYLIGHT
BEGIN:STANDARD
TZOFFSETFROM:-0600
TZOFFSETTO:-0700
TZNAME:MST
DTSTART:20251102T080000
END:STANDARD
BEGIN:DAYLIGHT
TZOFFSETFROM:-0700
TZOFFSETTO:-0600
TZNAME:MDT
DTSTART:20260308T090000
END:DAYLIGHT
BEGIN:STANDARD
TZOFFSETFROM:-0600
TZOFFSETTO:-0700
TZNAME:MST
DTSTART:20261101T080000
END:STANDARD
BEGIN:DAYLIGHT
TZOFFSETFROM:-0700
TZOFFSETTO:-0600
TZNAME:MDT
DTSTART:20270314T090000
END:DAYLIGHT
BEGIN:STANDARD
TZOFFSETFROM:-0600
TZOFFSETTO:-0700
TZNAME:MST
DTSTART:20271107T080000
END:STANDARD
END:VTIMEZONE
BEGIN:VEVENT
DTSTART;TZID=America/Denver:20260318T230000
DTEND;TZID=America/Denver:20260318T230000
DTSTAMP:20260425T120721
CREATED:20260303T183627Z
LAST-MODIFIED:20260303T183627Z
UID:56663-1773874800-1773874800@gunnisoncrestedbutte.com
SUMMARY:Crested Butte Spring Makers Market
DESCRIPTION:Celebrate local makers and shop unique hand made items at our spring break makers market!
URL:https://gunnisoncrestedbutte.com/event/crested-butte-spring-makers-market/
LOCATION:Mallardi Cabaret Theatre\, 403 2nd Street\, 2nd Floor\, Crested Butte\, CO\, 81224\, United States
CATEGORIES:Arts,Culture & Heritage,Family-Friendly,Free,Recreation
ATTACH;FMTTYPE=image/png:https://gunnisoncrestedbutte.com/wp-content/uploads/Red20and20Cream20Illustrative20Weekend20Market20Flyer201-piwCrS.png
END:VEVENT
BEGIN:VEVENT
DTSTART;TZID=America/Denver:20250329T190000
DTEND;TZID=America/Denver:20250329T210000
DTSTAMP:20260425T120721
CREATED:20250211T184913Z
LAST-MODIFIED:20250218T191615Z
UID:48831-1743274800-1743282000@gunnisoncrestedbutte.com
SUMMARY:I Love You Because
DESCRIPTION:A modern twist on Jane Austen’s Pride and Prejudice\, set in New York City. A young\, uptight greeting card writer’s life is changed when he meets a flighty photographer. Together they learn to love each other not despite their faults\, but because of them.
URL:https://gunnisoncrestedbutte.com/event/i-love-you-because-6/
LOCATION:Mallardi Cabaret Theatre\, 403 2nd Street\, 2nd Floor\, Crested Butte\, CO\, 81224\, United States
CATEGORIES:Arts,Culture & Heritage,Family-Friendly,Performances & Shows,Recreation,Teen
ATTACH;FMTTYPE=image/jpeg:https://gunnisoncrestedbutte.com/wp-content/uploads/CRESTED20BUTTE1-A6NZ5t.tmp_.jpg
END:VEVENT
BEGIN:VEVENT
DTSTART;TZID=America/Denver:20250329T140000
DTEND;TZID=America/Denver:20250329T153000
DTSTAMP:20260425T120721
CREATED:20250211T184912Z
LAST-MODIFIED:20250218T191613Z
UID:48829-1743256800-1743262200@gunnisoncrestedbutte.com
SUMMARY:I Love You Because
DESCRIPTION:A modern twist on Jane Austen’s Pride and Prejudice\, set in New York City. A young\, uptight greeting card writer’s life is changed when he meets a flighty photographer. Together they learn to love each other not despite their faults\, but because of them.
URL:https://gunnisoncrestedbutte.com/event/i-love-you-because-5/
LOCATION:Mallardi Cabaret Theatre\, 403 2nd Street\, 2nd Floor\, Crested Butte\, CO\, 81224\, United States
CATEGORIES:Arts,Culture & Heritage,Family-Friendly,Performances & Shows,Recreation,Teen
ATTACH;FMTTYPE=image/jpeg:https://gunnisoncrestedbutte.com/wp-content/uploads/CRESTED20BUTTE-XaIIoI.tmp_.jpg
END:VEVENT
BEGIN:VEVENT
DTSTART;TZID=America/Denver:20250327T190000
DTEND;TZID=America/Denver:20250327T210000
DTSTAMP:20260425T120721
CREATED:20250211T184910Z
LAST-MODIFIED:20250218T191612Z
UID:48827-1743102000-1743109200@gunnisoncrestedbutte.com
SUMMARY:I Love You Because
DESCRIPTION:A modern twist on Jane Austen’s Pride and Prejudice\, set in New York City. A young\, uptight greeting card writer’s life is changed when he meets a flighty photographer. Together they learn to love each other not despite their faults\, but because of them.
URL:https://gunnisoncrestedbutte.com/event/i-love-you-because-4/
LOCATION:Mallardi Cabaret Theatre\, 403 2nd Street\, 2nd Floor\, Crested Butte\, CO\, 81224\, United States
CATEGORIES:Arts,Culture & Heritage,Family-Friendly,Performances & Shows,Recreation,Teen
ATTACH;FMTTYPE=image/png:https://gunnisoncrestedbutte.com/wp-content/uploads/CRESTED20BUTTE3-JM4l5S.tmp_.png
END:VEVENT
BEGIN:VEVENT
DTSTART;TZID=America/Denver:20250322T140000
DTEND;TZID=America/Denver:20250322T153000
DTSTAMP:20260425T120721
CREATED:20250211T184909Z
LAST-MODIFIED:20250218T191611Z
UID:48825-1742652000-1742657400@gunnisoncrestedbutte.com
SUMMARY:I Love You Because
DESCRIPTION:A modern twist on Jane Austen’s Pride and Prejudice\, set in New York City. A young\, uptight greeting card writer’s life is changed when he meets a flighty photographer. Together they learn to love each other not despite their faults\, but because of them.
URL:https://gunnisoncrestedbutte.com/event/i-love-you-because-3/
LOCATION:Mallardi Cabaret Theatre\, 403 2nd Street\, 2nd Floor\, Crested Butte\, CO\, 81224\, United States
CATEGORIES:Arts,Culture & Heritage,Family-Friendly,Performances & Shows,Recreation,Teen
ATTACH;FMTTYPE=image/png:https://gunnisoncrestedbutte.com/wp-content/uploads/CRESTED20BUTTE2-YEcQyL.tmp_.png
END:VEVENT
BEGIN:VEVENT
DTSTART;TZID=America/Denver:20250321T190000
DTEND;TZID=America/Denver:20250321T213000
DTSTAMP:20260425T120721
CREATED:20250211T184907Z
LAST-MODIFIED:20250218T191611Z
UID:48823-1742583600-1742592600@gunnisoncrestedbutte.com
SUMMARY:I Love You Because
DESCRIPTION:A modern twist on Jane Austen’s Pride and Prejudice\, set in New York City. A young\, uptight greeting card writer’s life is changed when he meets a flighty photographer. Together they learn to love each other not despite their faults\, but because of them.
URL:https://gunnisoncrestedbutte.com/event/i-love-you-because-2/
LOCATION:Mallardi Cabaret Theatre\, 403 2nd Street\, 2nd Floor\, Crested Butte\, CO\, 81224\, United States
CATEGORIES:Arts,Culture & Heritage,Family-Friendly,Performances & Shows,Recreation,Teen
ATTACH;FMTTYPE=image/png:https://gunnisoncrestedbutte.com/wp-content/uploads/CRESTED20BUTTE1-WZZR1w.tmp_.png
END:VEVENT
BEGIN:VEVENT
DTSTART;TZID=America/Denver:20250315T140000
DTEND;TZID=America/Denver:20250315T170000
DTSTAMP:20260425T120721
CREATED:20250304T205923Z
LAST-MODIFIED:20250312T165714Z
UID:49941-1742047200-1742058000@gunnisoncrestedbutte.com
SUMMARY:Glow Purim Party
DESCRIPTION:Live DJ\, Face Painting\, Games\, Costume Contest\, Cash Bar Come glowing your brightest! Costumes encouraged All ages welcome! $10 Adults\, $5 Kids\, Kids under 2 FREE
URL:https://gunnisoncrestedbutte.com/event/glow-purim-party/
LOCATION:Mallardi Cabaret Theatre\, 403 2nd Street\, 2nd Floor\, Crested Butte\, CO\, 81224\, United States
CATEGORIES:Arts,Culture & Heritage,Family-Friendly,Fundraisers & Parties,Group & Community Meetings,Teen
ATTACH;FMTTYPE=image/jpeg:https://gunnisoncrestedbutte.com/wp-content/uploads/Purim20Party202025-eaTAhm.tmp_.jpg
END:VEVENT
BEGIN:VEVENT
DTSTART;TZID=America/Denver:20250306T190000
DTEND;TZID=America/Denver:20250306T213000
DTSTAMP:20260425T120721
CREATED:20250211T184858Z
LAST-MODIFIED:20250218T191609Z
UID:48821-1741287600-1741296600@gunnisoncrestedbutte.com
SUMMARY:I Love You Because
DESCRIPTION:A modern twist on Jane Austen’s Pride and Prejudice\, set in New York City. A young\, uptight greeting card writer’s life is changed when he meets a flighty photographer. Together they learn to love each other not despite their faults\, but because of them.
URL:https://gunnisoncrestedbutte.com/event/i-love-you-because/
LOCATION:Mallardi Cabaret Theatre\, 403 2nd Street\, 2nd Floor\, Crested Butte\, CO\, 81224\, United States
CATEGORIES:Arts,Culture & Heritage,Family-Friendly,Performances & Shows,Recreation,Teen
ATTACH;FMTTYPE=image/png:https://gunnisoncrestedbutte.com/wp-content/uploads/CRESTED20BUTTE-0abvKK.tmp_.png
END:VEVENT
BEGIN:VEVENT
DTSTART;TZID=America/Denver:20250123T174500
DTEND;TZID=America/Denver:20250123T184500
DTSTAMP:20260425T120721
CREATED:20250114T215105Z
LAST-MODIFIED:20250121T211900Z
UID:47811-1737654300-1737657900@gunnisoncrestedbutte.com
SUMMARY:Gunnison Valley Journal Celebration
DESCRIPTION:Readings and music from Crested Butte artists who participated in the Gunnison Valley Journal.
URL:https://gunnisoncrestedbutte.com/event/gunnison-valley-journal-celebration/
LOCATION:Mallardi Cabaret Theatre\, 403 2nd Street\, 2nd Floor\, Crested Butte\, CO\, 81224\, United States
CATEGORIES:Arts,Culture & Heritage,Free,Performances & Shows,Recreation
ATTACH;FMTTYPE=image/jpeg:https://gunnisoncrestedbutte.com/wp-content/uploads/Live20Love20Local20valentine-Chx7yz.tmp_.jpg
END:VEVENT
BEGIN:VEVENT
DTSTART;TZID=America/Denver:20250118T190000
DTEND;TZID=America/Denver:20250118T220000
DTSTAMP:20260425T120721
CREATED:20250102T173224Z
LAST-MODIFIED:20250107T171711Z
UID:47148-1737226800-1737237600@gunnisoncrestedbutte.com
SUMMARY:2024 Marmot Awards Gala
DESCRIPTION:The Crested Butte Mountain Theatre’s annual awards gala THE GOLDEN MARMOT AWARDS will be a fun-filled review of 2024’s productions and events. Who will we name Outstanding Actor and Actress? What play with be awarded Outstanding Production of the year? Sixteen awards for everything from Director to Set Design will be handed out. Come support your favorite Thespian’s and enjoy a quick review of what made 2024 a great year for local community theatre. Admission is free\, so come in your best fancy dress Crested Butte Style and cheer on our great volunteers. Contact the Mountain Theatre for ballots so you can vote for your favorites.
URL:https://gunnisoncrestedbutte.com/event/2024-marmot-awards-gala/
LOCATION:Mallardi Cabaret Theatre\, 403 2nd Street\, 2nd Floor\, Crested Butte\, CO\, 81224\, United States
CATEGORIES:Arts,Culture & Heritage,Family-Friendly,Free,Fundraisers & Parties,Group & Community Meetings,Performances & Shows,Teen
ATTACH;FMTTYPE=image/jpeg:https://gunnisoncrestedbutte.com/wp-content/uploads/pic20for20Calan-m5lYz8.tmp_.jpg
END:VEVENT
END:VCALENDAR