BEGIN:VCALENDAR
VERSION:2.0
PRODID:-//Crested Butte + Gunnison - ECPv6.15.20//NONSGML v1.0//EN
CALSCALE:GREGORIAN
METHOD:PUBLISH
X-WR-CALNAME:Crested Butte + Gunnison
X-ORIGINAL-URL:https://gunnisoncrestedbutte.com
X-WR-CALDESC:Events for Crested Butte + Gunnison
REFRESH-INTERVAL;VALUE=DURATION:PT1H
X-Robots-Tag:noindex
X-PUBLISHED-TTL:PT1H
BEGIN:VTIMEZONE
TZID:America/Denver
BEGIN:DAYLIGHT
TZOFFSETFROM:-0700
TZOFFSETTO:-0600
TZNAME:MDT
DTSTART:20240310T090000
END:DAYLIGHT
BEGIN:STANDARD
TZOFFSETFROM:-0600
TZOFFSETTO:-0700
TZNAME:MST
DTSTART:20241103T080000
END:STANDARD
BEGIN:DAYLIGHT
TZOFFSETFROM:-0700
TZOFFSETTO:-0600
TZNAME:MDT
DTSTART:20250309T090000
END:DAYLIGHT
BEGIN:STANDARD
TZOFFSETFROM:-0600
TZOFFSETTO:-0700
TZNAME:MST
DTSTART:20251102T080000
END:STANDARD
BEGIN:DAYLIGHT
TZOFFSETFROM:-0700
TZOFFSETTO:-0600
TZNAME:MDT
DTSTART:20260308T090000
END:DAYLIGHT
BEGIN:STANDARD
TZOFFSETFROM:-0600
TZOFFSETTO:-0700
TZNAME:MST
DTSTART:20261101T080000
END:STANDARD
END:VTIMEZONE
BEGIN:VEVENT
DTSTART;TZID=America/Denver:20250222T160000
DTEND;TZID=America/Denver:20250222T210000
DTSTAMP:20260425T165159
CREATED:20250121T211924Z
LAST-MODIFIED:20250128T190533Z
UID:48118-1740240000-1740258000@gunnisoncrestedbutte.com
SUMMARY:Move the Butte
DESCRIPTION:Move the Butte is a community dance production that features diverse dance styles performed by over 140 local Crested Butte and Gunnison Valley adults. The show serves our entire community as a supportive\, inclusive\, and safe environment as well as an opportunity for dancers to perform on stage. This production showcases many dance styles such as Ballet\, Tap\, Aerial\, Lyrical\, Modern\, Contemporary\, Hip Hop\, Jazz\, Burlesque\, Fire Performers and more! Move the Butte 2025 show dates and times are: Thursday Feb. 20th @ 7pm – $30 Friday Feb. 21st @ 7pm – $40 Saturday Feb. 22nd @ 4pm – $15 Saturday Feb. 22nd @ 8pm – $40 at the CB Center for the Arts. *Tickets will go on sale in the beginning of Feb.* Watch for updates on this webpage\, Facebook page\, CB News\, KBUT Radio\, and word on the street for the exact date of ticket release (probably sometime Feb 3-5).
URL:https://gunnisoncrestedbutte.com/event/move-the-butte-4/
LOCATION:Center for the Arts Crested Butte\, 606 6th Street\, Crested Butte\, CO\, 81224
CATEGORIES:Arts,Culture & Heritage,Family-Friendly,Fundraisers & Parties,Performances & Shows
ATTACH;FMTTYPE=image/jpeg:https://gunnisoncrestedbutte.com/wp-content/uploads/default-sunset-2500.jpg
END:VEVENT
BEGIN:VEVENT
DTSTART;TZID=America/Denver:20250222T190000
DTEND;TZID=America/Denver:20250222T210000
DTSTAMP:20260425T165159
CREATED:20250204T213002Z
LAST-MODIFIED:20250204T213002Z
UID:48575-1740250800-1740258000@gunnisoncrestedbutte.com
SUMMARY:Moonlight Concert: Quarter Mile Mule
DESCRIPTION:Moonlight Concert Series: Quarter Mile Mule Saturday\, February 22nd Doors 6:30 pm\, Concert 7:00 pm. Quarter Mile Mule is the musical partnership of singer songwriter Chris Coady and accomplished guitarist and singer Kevin Doherty. Chris has become known for his songwriting inspired by friends\, family\, community and the natural environment with a sense of place – the Gunnison Valley. His songs convey positivity and transformation. Chris has released multiple albums of original songs produced by Don Richmond at Howlin’ Dog Studios. Kevin has become known for laying it down on the twelve string guitar as well as his songwriting and vocals in the band Floodgate Operators (second place finishers at the 50th Telluride Bluegrass Festival Band Competition). He also plays keyboards and rocks the electric guitar in the band Alternative People. Chris and Kevin spent a number of years playing together in the band 9 Mile\, and when that band decided to disband the two carried on as a duo called Quarter Mile Mule. The magic still happens! Rounding out the sound for Quarter Mile Mule is accomplished bassist Brian Camp. Brian was also a member of the band 9 Mile (as well as 18 Mile Radius with Chris) and he brings decades of experience and a smooth confident presence to the stage. Tickets: $20/person\, $18/GAC Members
URL:https://gunnisoncrestedbutte.com/event/moonlight-concert-quarter-mile-mule/
LOCATION:Gunnison Library\, 1 Quartz St\, Gunnison\, CO\, 81230\, United States
CATEGORIES:Family-Friendly,Performances & Shows
ATTACH;FMTTYPE=image/jpeg:https://gunnisoncrestedbutte.com/wp-content/uploads/Quarter20Mile20Mule-ertYUt.tmp_.jpg
END:VEVENT
BEGIN:VEVENT
DTSTART;TZID=America/Denver:20250222T190000
DTEND;TZID=America/Denver:20250222T213000
DTSTAMP:20260425T165159
CREATED:20250204T213018Z
LAST-MODIFIED:20250204T213018Z
UID:48587-1740250800-1740259800@gunnisoncrestedbutte.com
SUMMARY:Moonlight Concert Series
DESCRIPTION:Quarte Mile Mule is an original three piece Americana band consisting of Chris Coady\, Kevin Doherty and Brian Camp.
URL:https://gunnisoncrestedbutte.com/event/moonlight-concert-series/
LOCATION:Gunnison Arts Center\, 102 South Main St\, Gunnison\, CO\, 81230\, United States
CATEGORIES:Performances & Shows
ATTACH;FMTTYPE=image/jpeg:https://gunnisoncrestedbutte.com/wp-content/uploads/Quarter20Mile20Mule20flyer1-va3wmR.tmp_.jpg
END:VEVENT
BEGIN:VEVENT
DTSTART;TZID=America/Denver:20250222T210000
DTEND;TZID=America/Denver:20250222T210000
DTSTAMP:20260425T165159
CREATED:20241119T222625Z
LAST-MODIFIED:20241119T222625Z
UID:45964-1740258000-1740258000@gunnisoncrestedbutte.com
SUMMARY:Kendoll + Bowie Jane First Chair
DESCRIPTION:Kendoll + Bowie Jane First Chair Tour | Crested Butte Public House | February 22\, 2025 Kendoll’s music pushes the boundaries of bassline house with a mixture of heavy UK groove. She started her career smashing dance floors in Seattle at the age of 16 and moved to Los Angeles after taking the city by storm. Kendoll has since been making waves in the scene receiving massive support from industry giants such as Insomniac having played EDC Las Vegas\, Beyond Wonderland\, and Nocturnal Wonderland. She’s released on high profile labels such as Night Bass\, Insomniac Records\, Bite This!\, Dim Mak\, Prescription Records\, DND Recs\, Psycho Disco!\, etc. and has played alongside big artists like AC Slater\, Wax Motif\, Dr. Fresch\, Slushii\, Marshmello\, Redlight\, Anna Lunoe\, Destructo\, Chris Lorenzo\, + many more. You’re not going to want to miss her set!
URL:https://gunnisoncrestedbutte.com/event/kendoll-bowie-jane-first-chair/
LOCATION:Public House Crested Butte\, 202 Elk Avenue\, Crested Butte\, CO\, 81224
CATEGORIES:Adult Only,Performances & Shows
ATTACH;FMTTYPE=image/jpeg:https://gunnisoncrestedbutte.com/wp-content/uploads/default-sunset-2500.jpg
END:VEVENT
END:VCALENDAR