BEGIN:VCALENDAR
VERSION:2.0
PRODID:-//Crested Butte + Gunnison - ECPv6.15.15//NONSGML v1.0//EN
CALSCALE:GREGORIAN
METHOD:PUBLISH
X-WR-CALNAME:Crested Butte + Gunnison
X-ORIGINAL-URL:https://gunnisoncrestedbutte.com
X-WR-CALDESC:Events for Crested Butte + Gunnison
REFRESH-INTERVAL;VALUE=DURATION:PT1H
X-Robots-Tag:noindex
X-PUBLISHED-TTL:PT1H
BEGIN:VTIMEZONE
TZID:America/Denver
BEGIN:DAYLIGHT
TZOFFSETFROM:-0700
TZOFFSETTO:-0600
TZNAME:MDT
DTSTART:20250309T090000
END:DAYLIGHT
BEGIN:STANDARD
TZOFFSETFROM:-0600
TZOFFSETTO:-0700
TZNAME:MST
DTSTART:20251102T080000
END:STANDARD
BEGIN:DAYLIGHT
TZOFFSETFROM:-0700
TZOFFSETTO:-0600
TZNAME:MDT
DTSTART:20260308T090000
END:DAYLIGHT
BEGIN:STANDARD
TZOFFSETFROM:-0600
TZOFFSETTO:-0700
TZNAME:MST
DTSTART:20261101T080000
END:STANDARD
BEGIN:DAYLIGHT
TZOFFSETFROM:-0700
TZOFFSETTO:-0600
TZNAME:MDT
DTSTART:20270314T090000
END:DAYLIGHT
BEGIN:STANDARD
TZOFFSETFROM:-0600
TZOFFSETTO:-0700
TZNAME:MST
DTSTART:20271107T080000
END:STANDARD
END:VTIMEZONE
BEGIN:VEVENT
DTSTART;TZID=America/Denver:20260115T170000
DTEND;TZID=America/Denver:20260115T203000
DTSTAMP:20260419T092814
CREATED:20260113T191246Z
LAST-MODIFIED:20260113T191246Z
UID:55780-1768496400-1768509000@gunnisoncrestedbutte.com
SUMMARY:The 21st Annual Backcountry Film Festival
DESCRIPTION:Join HCCA for the 21st Annual Backcountry Film Festival in Gunnison at the UC Theater on Western Colorado University’s campus on Thursday\, January 15 at 5 PM! This screening features a special art hour before the film\, hosted in collaboration with the Trailhead Children’s Museum. FREE entry for Western students and Choice-Pass Holders!
URL:https://gunnisoncrestedbutte.com/event/the-21st-annual-backcountry-film-festival/
LOCATION:Western Colorado University\, 600 N. Adams St.\, Gunnison\, 81230
CATEGORIES:Arts,Culture & Heritage,Family-Friendly,Free,Recreation
ATTACH;FMTTYPE=image/jpeg:https://gunnisoncrestedbutte.com/wp-content/uploads/BCFF20Western_HCCA_Trailhead-RxiPWa.jpg
END:VEVENT
BEGIN:VEVENT
DTSTART;TZID=America/Denver:20260115T200000
DTEND;TZID=America/Denver:20260115T230000
DTSTAMP:20260419T092814
CREATED:20260113T191636Z
LAST-MODIFIED:20260113T191636Z
UID:55872-1768507200-1768518000@gunnisoncrestedbutte.com
SUMMARY:Julian Young live @ The Whammy Bar
DESCRIPTION:
URL:https://gunnisoncrestedbutte.com/event/julian-young-live-the-whammy-bar-3/
LOCATION:The Whammy Bar\, 126 N Main\, Gunnison\, CO\, 81230\, United States
CATEGORIES:Free,Performances & Shows
ATTACH;FMTTYPE=image/jpeg:https://gunnisoncrestedbutte.com/wp-content/uploads/default-sunset-2500.jpg
END:VEVENT
BEGIN:VEVENT
DTSTART;TZID=America/Denver:20260115T200000
DTEND;TZID=America/Denver:20260115T230000
DTSTAMP:20260419T092814
CREATED:20260113T191707Z
LAST-MODIFIED:20260113T191707Z
UID:55887-1768507200-1768518000@gunnisoncrestedbutte.com
SUMMARY:Chase Mason live @ The Whammy Bar
DESCRIPTION:
URL:https://gunnisoncrestedbutte.com/event/chase-mason-live-the-whammy-bar/
LOCATION:The Whammy Bar\, 126 N Main\, Gunnison\, CO\, 81230\, United States
CATEGORIES:Free,Performances & Shows
ATTACH;FMTTYPE=image/jpeg:https://gunnisoncrestedbutte.com/wp-content/uploads/default-sunset-2500.jpg
END:VEVENT
END:VCALENDAR