BEGIN:VCALENDAR
VERSION:2.0
PRODID:-//Crested Butte + Gunnison - ECPv6.15.20//NONSGML v1.0//EN
CALSCALE:GREGORIAN
METHOD:PUBLISH
X-WR-CALNAME:Crested Butte + Gunnison
X-ORIGINAL-URL:https://gunnisoncrestedbutte.com
X-WR-CALDESC:Events for Crested Butte + Gunnison
REFRESH-INTERVAL;VALUE=DURATION:PT1H
X-Robots-Tag:noindex
X-PUBLISHED-TTL:PT1H
BEGIN:VTIMEZONE
TZID:America/Denver
BEGIN:DAYLIGHT
TZOFFSETFROM:-0700
TZOFFSETTO:-0600
TZNAME:MDT
DTSTART:20240310T090000
END:DAYLIGHT
BEGIN:STANDARD
TZOFFSETFROM:-0600
TZOFFSETTO:-0700
TZNAME:MST
DTSTART:20241103T080000
END:STANDARD
BEGIN:DAYLIGHT
TZOFFSETFROM:-0700
TZOFFSETTO:-0600
TZNAME:MDT
DTSTART:20250309T090000
END:DAYLIGHT
BEGIN:STANDARD
TZOFFSETFROM:-0600
TZOFFSETTO:-0700
TZNAME:MST
DTSTART:20251102T080000
END:STANDARD
BEGIN:DAYLIGHT
TZOFFSETFROM:-0700
TZOFFSETTO:-0600
TZNAME:MDT
DTSTART:20260308T090000
END:DAYLIGHT
BEGIN:STANDARD
TZOFFSETFROM:-0600
TZOFFSETTO:-0700
TZNAME:MST
DTSTART:20261101T080000
END:STANDARD
END:VTIMEZONE
BEGIN:VEVENT
DTSTART;TZID=America/Denver:20250717T100000
DTEND;TZID=America/Denver:20250717T113000
DTSTAMP:20260422T081447
CREATED:20250520T185125Z
LAST-MODIFIED:20250527T210322Z
UID:51755-1752746400-1752751800@gunnisoncrestedbutte.com
SUMMARY:Historic Elk Ave Walking Tours
DESCRIPTION:Crested Butte became a registered National Historic District in 1974 to preserve our distinctive buildings from the late 19th and early 20th centuries. Join us on an Elk Avenue Walking Tour to learn about the history of the buildings\, mining history\, and stories from the community. Our regularly scheduled Elk Avenue Walking Tours will resume in June 2025 on Tuesdays and Thursdays\, 10:00am-11:30am that meet at the Museum at 4th and Elk Avenue. Tours cost $20 (members) and $25 (non-members). Visit https://crestedbuttemuseum.com/walking-tours/ for more information.
URL:https://gunnisoncrestedbutte.com/event/historic-elk-ave-walking-tours-13/
LOCATION:Crested Butte Museum\, 331 Elk Ave\, Crested Butte\, CO\, 81224\, United States
CATEGORIES:Classes & Lectures,Education,Family-Friendly
ATTACH;FMTTYPE=image/jpeg:https://gunnisoncrestedbutte.com/wp-content/uploads/202520Elk20Ave20Historic20Walking20Tours1-hl8VnQ.jpg
END:VEVENT
BEGIN:VEVENT
DTSTART;TZID=America/Denver:20250717T160000
DTEND;TZID=America/Denver:20250717T200000
DTSTAMP:20260422T081447
CREATED:20250701T172631Z
LAST-MODIFIED:20250701T172631Z
UID:52606-1752768000-1752782400@gunnisoncrestedbutte.com
SUMMARY:Third Thursday Monthly Art Pop up
DESCRIPTION:Come have a beer on us celebrating creativity at the very first Third Thursday Monthly Art Pop up\, hosted by The Artlaws of the Southwest! Every month will look a little different as we will have rotating artists showcasing their crafts but live music\, food and great art will always be a guarantee. Free to attend! 301 Bellview Ave. Downtown Crested Butte JULY 17 4-8pm Some artists featured this month: @mentality_to_reality @scraphappystudios @katiebriggsart @kateseeleybean Let’s make Crested Butte the wild west of the art world-one Thursday at a time.
URL:https://gunnisoncrestedbutte.com/event/third-thursday-monthly-art-pop-up-2/
LOCATION:Downtown Crested Butte\, Crested Butte\, CO\, 81224
CATEGORIES:Arts,Classes & Lectures,Culture & Heritage,Education,Family-Friendly,Free,Group & Community Meetings,Performances & Shows,Teen
ATTACH;FMTTYPE=image/png:https://gunnisoncrestedbutte.com/wp-content/uploads/Screenshot202025-06-1320at204.56.3920PM-WUZtAj.png
END:VEVENT
BEGIN:VEVENT
DTSTART;TZID=America/Denver:20250717T170000
DTEND;TZID=America/Denver:20250717T200000
DTSTAMP:20260422T081447
CREATED:20250619T183432Z
LAST-MODIFIED:20250619T183432Z
UID:52336-1752771600-1752782400@gunnisoncrestedbutte.com
SUMMARY:Jordan Brandenburg @ JosŽ Patio
DESCRIPTION:
URL:https://gunnisoncrestedbutte.com/event/jordan-brandenburg-josz-patio/
LOCATION:CO
CATEGORIES:Arts,Culture & Heritage,Family-Friendly,Free,Performances & Shows,Pet Friendly
ATTACH;FMTTYPE=image/jpeg:https://gunnisoncrestedbutte.com/wp-content/uploads/default-sunset-2500.jpg
END:VEVENT
BEGIN:VEVENT
DTSTART;TZID=America/Denver:20250717T170000
DTEND;TZID=America/Denver:20250717T200000
DTSTAMP:20260422T081447
CREATED:20250701T174818Z
LAST-MODIFIED:20250701T174818Z
UID:52683-1752771600-1752782400@gunnisoncrestedbutte.com
SUMMARY:Rachel VanSlyke
DESCRIPTION:VanSlykes unique combination of accessible\, highly listenable tunes with no holds barred lyrics and a refusal to be bound by conventional genres have garnered her a following who are at once enamored and empowered by her bold songwriting and gutsy performances. Succeeding on her own terms\, her songs emotionally resonate with fans across the spectrum based upon their edgy intensity and genuine intimacy.
URL:https://gunnisoncrestedbutte.com/event/rachel-vanslyke/
LOCATION:Zuni West Brewing\, 235 Elcho Ave\, Crested Butte South\, CO\, 81224\, United States
CATEGORIES:Family-Friendly,Free
ATTACH;FMTTYPE=image/jpeg:https://gunnisoncrestedbutte.com/wp-content/uploads/default-sunset-2500.jpg
END:VEVENT
BEGIN:VEVENT
DTSTART;TZID=America/Denver:20250717T200000
DTEND;TZID=America/Denver:20250717T230000
DTSTAMP:20260422T081447
CREATED:20250619T184155Z
LAST-MODIFIED:20250619T184155Z
UID:52387-1752782400-1752793200@gunnisoncrestedbutte.com
SUMMARY:Strand Hill @ billy barr
DESCRIPTION:
URL:https://gunnisoncrestedbutte.com/event/strand-hill-billy-barr-3/
LOCATION:billy bar at Elevation Hotel\, 500 Gothic Rd 2nd Level\, Mt. Crested Butte\, CO\, 81224\, United States
CATEGORIES:Arts,Culture & Heritage,Family-Friendly,Free,Performances & Shows,Pet Friendly
ATTACH;FMTTYPE=image/jpeg:https://gunnisoncrestedbutte.com/wp-content/uploads/default-sunset-2500.jpg
END:VEVENT
END:VCALENDAR