BEGIN:VCALENDAR
VERSION:2.0
PRODID:-//Crested Butte + Gunnison - ECPv6.15.20//NONSGML v1.0//EN
CALSCALE:GREGORIAN
METHOD:PUBLISH
X-WR-CALNAME:Crested Butte + Gunnison
X-ORIGINAL-URL:https://gunnisoncrestedbutte.com
X-WR-CALDESC:Events for Crested Butte + Gunnison
REFRESH-INTERVAL;VALUE=DURATION:PT1H
X-Robots-Tag:noindex
X-PUBLISHED-TTL:PT1H
BEGIN:VTIMEZONE
TZID:America/Denver
BEGIN:DAYLIGHT
TZOFFSETFROM:-0700
TZOFFSETTO:-0600
TZNAME:MDT
DTSTART:20250309T090000
END:DAYLIGHT
BEGIN:STANDARD
TZOFFSETFROM:-0600
TZOFFSETTO:-0700
TZNAME:MST
DTSTART:20251102T080000
END:STANDARD
BEGIN:DAYLIGHT
TZOFFSETFROM:-0700
TZOFFSETTO:-0600
TZNAME:MDT
DTSTART:20260308T090000
END:DAYLIGHT
BEGIN:STANDARD
TZOFFSETFROM:-0600
TZOFFSETTO:-0700
TZNAME:MST
DTSTART:20261101T080000
END:STANDARD
BEGIN:DAYLIGHT
TZOFFSETFROM:-0700
TZOFFSETTO:-0600
TZNAME:MDT
DTSTART:20270314T090000
END:DAYLIGHT
BEGIN:STANDARD
TZOFFSETFROM:-0600
TZOFFSETTO:-0700
TZNAME:MST
DTSTART:20271107T080000
END:STANDARD
END:VTIMEZONE
BEGIN:VEVENT
DTSTART;TZID=America/Denver:20260710T180000
DTEND;TZID=America/Denver:20260710T200000
DTSTAMP:20260422T004936
CREATED:20260421T184244Z
LAST-MODIFIED:20260421T184244Z
UID:57405-1783706400-1783713600@gunnisoncrestedbutte.com
SUMMARY:Polar Bears\, Penguins and Prayer Flags
DESCRIPTION:Eric Larsen has spent the past 30 years traveling in some of the most remote and extreme environments on the planet. To date\, Eric has completed more North and South Pole expeditions than any other American in history. Eric is Polar adventurer\, expedition guide and educator\, as well as the author of “On Thin Ice: An Epic Final Quest into the Melting Arctic”. Join us for a lovely evening as Eric shares photos and stories of his exploration and love for nature. *Donation requested
URL:https://gunnisoncrestedbutte.com/event/polar-bears-penguins-and-prayer-flags/
LOCATION:Terrible Mountain Gallery\, 409 Main St\, Pitkin\, CO\, 81241\, United States
CATEGORIES:Arts,Classes & Lectures,Culture & Heritage,Education,Family-Friendly,Free,Fundraisers & Parties,Performances & Shows
ATTACH;FMTTYPE=image/png:https://gunnisoncrestedbutte.com/wp-content/uploads/Eric20Larsen-MSL802.png
END:VEVENT
END:VCALENDAR