BEGIN:VCALENDAR
VERSION:2.0
PRODID:-//Crested Butte + Gunnison - ECPv6.15.20//NONSGML v1.0//EN
CALSCALE:GREGORIAN
METHOD:PUBLISH
X-WR-CALNAME:Crested Butte + Gunnison
X-ORIGINAL-URL:https://gunnisoncrestedbutte.com
X-WR-CALDESC:Events for Crested Butte + Gunnison
REFRESH-INTERVAL;VALUE=DURATION:PT1H
X-Robots-Tag:noindex
X-PUBLISHED-TTL:PT1H
BEGIN:VTIMEZONE
TZID:America/Denver
BEGIN:DAYLIGHT
TZOFFSETFROM:-0700
TZOFFSETTO:-0600
TZNAME:MDT
DTSTART:20250309T090000
END:DAYLIGHT
BEGIN:STANDARD
TZOFFSETFROM:-0600
TZOFFSETTO:-0700
TZNAME:MST
DTSTART:20251102T080000
END:STANDARD
BEGIN:DAYLIGHT
TZOFFSETFROM:-0700
TZOFFSETTO:-0600
TZNAME:MDT
DTSTART:20260308T090000
END:DAYLIGHT
BEGIN:STANDARD
TZOFFSETFROM:-0600
TZOFFSETTO:-0700
TZNAME:MST
DTSTART:20261101T080000
END:STANDARD
BEGIN:DAYLIGHT
TZOFFSETFROM:-0700
TZOFFSETTO:-0600
TZNAME:MDT
DTSTART:20270314T090000
END:DAYLIGHT
BEGIN:STANDARD
TZOFFSETFROM:-0600
TZOFFSETTO:-0700
TZNAME:MST
DTSTART:20271107T080000
END:STANDARD
END:VTIMEZONE
BEGIN:VEVENT
DTSTART;TZID=America/Denver:20260530T103000
DTEND;TZID=America/Denver:20260530T113000
DTSTAMP:20260421T195237
CREATED:20260421T184245Z
LAST-MODIFIED:20260421T184245Z
UID:57407-1780137000-1780140600@gunnisoncrestedbutte.com
SUMMARY:Super Saturday Storytime!
DESCRIPTION:Join us at the Gunnison Library at 10:30 am on Saturday\, May 30 for Super Saturday Storytime and a Summer Reading Program Kick-off Celebration! May’s theme is Listen to the Music with Lizzy Plotkin. Lizzy will lead families in a songwriting excursion inspired by nature. Families will be able to explore different instruments and contribute to an original composition. Free & open to the public.
URL:https://gunnisoncrestedbutte.com/event/super-saturday-storytime/
LOCATION:Gunnison Library\, 1 Quartz St\, Gunnison\, CO\, 81230\, United States
CATEGORIES:Classes & Lectures,Education,Family-Friendly,Free
ATTACH;FMTTYPE=image/png:https://gunnisoncrestedbutte.com/wp-content/uploads/May202026-imsyy1.png
END:VEVENT
END:VCALENDAR