BEGIN:VCALENDAR
VERSION:2.0
PRODID:-//Crested Butte + Gunnison - ECPv6.15.20//NONSGML v1.0//EN
CALSCALE:GREGORIAN
METHOD:PUBLISH
X-WR-CALNAME:Crested Butte + Gunnison
X-ORIGINAL-URL:https://gunnisoncrestedbutte.com
X-WR-CALDESC:Events for Crested Butte + Gunnison
REFRESH-INTERVAL;VALUE=DURATION:PT1H
X-Robots-Tag:noindex
X-PUBLISHED-TTL:PT1H
BEGIN:VTIMEZONE
TZID:America/Denver
BEGIN:DAYLIGHT
TZOFFSETFROM:-0700
TZOFFSETTO:-0600
TZNAME:MDT
DTSTART:20250309T090000
END:DAYLIGHT
BEGIN:STANDARD
TZOFFSETFROM:-0600
TZOFFSETTO:-0700
TZNAME:MST
DTSTART:20251102T080000
END:STANDARD
BEGIN:DAYLIGHT
TZOFFSETFROM:-0700
TZOFFSETTO:-0600
TZNAME:MDT
DTSTART:20260308T090000
END:DAYLIGHT
BEGIN:STANDARD
TZOFFSETFROM:-0600
TZOFFSETTO:-0700
TZNAME:MST
DTSTART:20261101T080000
END:STANDARD
BEGIN:DAYLIGHT
TZOFFSETFROM:-0700
TZOFFSETTO:-0600
TZNAME:MDT
DTSTART:20270314T090000
END:DAYLIGHT
BEGIN:STANDARD
TZOFFSETFROM:-0600
TZOFFSETTO:-0700
TZNAME:MST
DTSTART:20271107T080000
END:STANDARD
END:VTIMEZONE
BEGIN:VEVENT
DTSTART;TZID=America/Denver:20260520T180000
DTEND;TZID=America/Denver:20260520T193000
DTSTAMP:20260421T195236
CREATED:20260407T182338Z
LAST-MODIFIED:20260407T182338Z
UID:57079-1779300000-1779305400@gunnisoncrestedbutte.com
SUMMARY:Cookbook Club: Something from Nothing
DESCRIPTION:Discover the magic of making more with less at our community potluck inspired by Something from Nothing: A Cookbook by Alison Roman! This collection celebrates the art of cooking with what you have-turning pantry staples and everyday ingredients into dishes that feel abundant\, satisfying\, and full of flavor. Pick up a copy at Townie Books or borrow ours\, sign up for a dish\, and bring your creation to share. Together\, we’ll discover how a little creativity in the kitchen can turn the simplest ingredients into a feast worth remembering.
URL:https://gunnisoncrestedbutte.com/event/cookbook-club-something-from-nothing/
LOCATION:Center for the Arts Crested Butte\, 606 6th Street\, Crested Butte\, CO\, 81224
CATEGORIES:Arts,Classes & Lectures,Culture & Heritage,Education
ATTACH;FMTTYPE=image/jpeg:https://gunnisoncrestedbutte.com/wp-content/uploads/default-sunset-2500.jpg
END:VEVENT
END:VCALENDAR