BEGIN:VCALENDAR
VERSION:2.0
PRODID:-//Crested Butte + Gunnison - ECPv6.15.20//NONSGML v1.0//EN
CALSCALE:GREGORIAN
METHOD:PUBLISH
X-WR-CALNAME:Crested Butte + Gunnison
X-ORIGINAL-URL:https://gunnisoncrestedbutte.com
X-WR-CALDESC:Events for Crested Butte + Gunnison
REFRESH-INTERVAL;VALUE=DURATION:PT1H
X-Robots-Tag:noindex
X-PUBLISHED-TTL:PT1H
BEGIN:VTIMEZONE
TZID:America/Denver
BEGIN:DAYLIGHT
TZOFFSETFROM:-0700
TZOFFSETTO:-0600
TZNAME:MDT
DTSTART:20250309T090000
END:DAYLIGHT
BEGIN:STANDARD
TZOFFSETFROM:-0600
TZOFFSETTO:-0700
TZNAME:MST
DTSTART:20251102T080000
END:STANDARD
BEGIN:DAYLIGHT
TZOFFSETFROM:-0700
TZOFFSETTO:-0600
TZNAME:MDT
DTSTART:20260308T090000
END:DAYLIGHT
BEGIN:STANDARD
TZOFFSETFROM:-0600
TZOFFSETTO:-0700
TZNAME:MST
DTSTART:20261101T080000
END:STANDARD
BEGIN:DAYLIGHT
TZOFFSETFROM:-0700
TZOFFSETTO:-0600
TZNAME:MDT
DTSTART:20270314T090000
END:DAYLIGHT
BEGIN:STANDARD
TZOFFSETFROM:-0600
TZOFFSETTO:-0700
TZNAME:MST
DTSTART:20271107T080000
END:STANDARD
END:VTIMEZONE
BEGIN:VEVENT
DTSTART;TZID=America/Denver:20260502T090000
DTEND;TZID=America/Denver:20260502T170000
DTSTAMP:20260421T182220
CREATED:20260421T184154Z
LAST-MODIFIED:20260421T184154Z
UID:57384-1777712400-1777741200@gunnisoncrestedbutte.com
SUMMARY:Women's Firearms Safety & Concealed Carry Course 2
DESCRIPTION:Carbon Limb Training’s presentation of USCCA’s Concealed Carry course is curated and discounted for the Gunnison Valley Women’s Network to encourage safety\, confidence\, knowledge\, ownership and use of firearms amongst the valley’s ladies. All ages and experience levels welcome and encouraged! We are excited to have Gabby and Dan from Carbon Limb Training back and offering a Women’s Firearms Safety & Concealed Carry Class to the ladies of the Gunnison Valley Women’s Network. This exclusive\, discounted women’s course includes training and education in personal safety\, handgun safety & fundamentals\, handgun selection & operation\, as well as shooting skills and live fire at the range.
URL:https://gunnisoncrestedbutte.com/event/womens-firearms-safety-concealed-carry-course-2/
LOCATION:Gunnison Sportsmen’s Association\, 881 Co Rd 18\, Gunnison\, CO\, 81230\, United States
CATEGORIES:Adult Only,Classes & Lectures,Education
ATTACH;FMTTYPE=image/jpeg:https://gunnisoncrestedbutte.com/wp-content/uploads/GVWN20Firearms20Safety-aOX71k.jpg
END:VEVENT
END:VCALENDAR