BEGIN:VCALENDAR
VERSION:2.0
PRODID:-//Crested Butte + Gunnison - ECPv6.15.20//NONSGML v1.0//EN
CALSCALE:GREGORIAN
METHOD:PUBLISH
X-WR-CALNAME:Crested Butte + Gunnison
X-ORIGINAL-URL:https://gunnisoncrestedbutte.com
X-WR-CALDESC:Events for Crested Butte + Gunnison
REFRESH-INTERVAL;VALUE=DURATION:PT1H
X-Robots-Tag:noindex
X-PUBLISHED-TTL:PT1H
BEGIN:VTIMEZONE
TZID:America/Denver
BEGIN:DAYLIGHT
TZOFFSETFROM:-0700
TZOFFSETTO:-0600
TZNAME:MDT
DTSTART:20250309T090000
END:DAYLIGHT
BEGIN:STANDARD
TZOFFSETFROM:-0600
TZOFFSETTO:-0700
TZNAME:MST
DTSTART:20251102T080000
END:STANDARD
BEGIN:DAYLIGHT
TZOFFSETFROM:-0700
TZOFFSETTO:-0600
TZNAME:MDT
DTSTART:20260308T090000
END:DAYLIGHT
BEGIN:STANDARD
TZOFFSETFROM:-0600
TZOFFSETTO:-0700
TZNAME:MST
DTSTART:20261101T080000
END:STANDARD
BEGIN:DAYLIGHT
TZOFFSETFROM:-0700
TZOFFSETTO:-0600
TZNAME:MDT
DTSTART:20270314T090000
END:DAYLIGHT
BEGIN:STANDARD
TZOFFSETFROM:-0600
TZOFFSETTO:-0700
TZNAME:MST
DTSTART:20271107T080000
END:STANDARD
END:VTIMEZONE
BEGIN:VEVENT
DTSTART;TZID=America/Denver:20260707T090000
DTEND;TZID=America/Denver:20260707T100000
DTSTAMP:20260421T213550
CREATED:20260421T184218Z
LAST-MODIFIED:20260421T184218Z
UID:57393-1783414800-1783418400@gunnisoncrestedbutte.com
SUMMARY:Art of Alignment
DESCRIPTION:In the heart of the Quartz Creek Valley\, where the echoes of history meet the stillness of the wild\, we invite you to find your center. Held within the walls of a historic 1898 saloon turned fine art gallery\, The Art of Alignment is more than a yoga class-it is a weekly sanctuary for those seeking purpose\, precision\, and presence in this remote landscape. Every Tuesday morning Terrible Mountain Gallery transforms into a space of intentional movement. Surrounded by curated art and the rugged beauty of the Fossil Ridge Wilderness\, these sessions offer a rare opportunity to practice in a setting that honors both the creative power of the human spirit and the stark beauty of the natural world. Led by Desirae Penton-Crosley\, Dragon Asana is rooted in the philosophy of the I Ching\, where the Dragon represents Creative Power. This method combines exact alignment with mindful inquiry\, guiding you through a practice that is both disciplined and deeply attentive. Whether you are a local resident or a traveler passing through our high-country home\, these classes provide the tools to cultivate resilience and lasting transformation on and off the mat.
URL:https://gunnisoncrestedbutte.com/event/art-of-alignment-7/
LOCATION:Terrible Mountain Gallery\, 409 Main St\, Pitkin\, CO\, 81241\, United States
CATEGORIES:Classes & Lectures,Education,Family-Friendly,Teen
ATTACH;FMTTYPE=image/jpeg:https://gunnisoncrestedbutte.com/wp-content/uploads/IMG_4230-RJMi0B.jpg
END:VEVENT
BEGIN:VEVENT
DTSTART;TZID=America/Denver:20260710T180000
DTEND;TZID=America/Denver:20260710T200000
DTSTAMP:20260421T213550
CREATED:20260421T184244Z
LAST-MODIFIED:20260421T184244Z
UID:57405-1783706400-1783713600@gunnisoncrestedbutte.com
SUMMARY:Polar Bears\, Penguins and Prayer Flags
DESCRIPTION:Eric Larsen has spent the past 30 years traveling in some of the most remote and extreme environments on the planet. To date\, Eric has completed more North and South Pole expeditions than any other American in history. Eric is Polar adventurer\, expedition guide and educator\, as well as the author of “On Thin Ice: An Epic Final Quest into the Melting Arctic”. Join us for a lovely evening as Eric shares photos and stories of his exploration and love for nature. *Donation requested
URL:https://gunnisoncrestedbutte.com/event/polar-bears-penguins-and-prayer-flags/
LOCATION:Terrible Mountain Gallery\, 409 Main St\, Pitkin\, CO\, 81241\, United States
CATEGORIES:Arts,Classes & Lectures,Culture & Heritage,Education,Family-Friendly,Free,Fundraisers & Parties,Performances & Shows
ATTACH;FMTTYPE=image/png:https://gunnisoncrestedbutte.com/wp-content/uploads/Eric20Larsen-MSL802.png
END:VEVENT
BEGIN:VEVENT
DTSTART;TZID=America/Denver:20260714T090000
DTEND;TZID=America/Denver:20260714T100000
DTSTAMP:20260421T213550
CREATED:20260421T183947Z
LAST-MODIFIED:20260421T184045Z
UID:57341-1784019600-1784023200@gunnisoncrestedbutte.com
SUMMARY:Art of Alignment
DESCRIPTION:In the heart of the Quartz Creek Valley\, where the echoes of history meet the stillness of the wild\, we invite you to find your center. Held within the walls of a historic 1898 saloon turned fine art gallery\, The Art of Alignment is more than a yoga class-it is a weekly sanctuary for those seeking purpose\, precision\, and presence in this remote landscape. Every Tuesday morning Terrible Mountain Gallery transforms into a space of intentional movement. Surrounded by curated art and the rugged beauty of the Fossil Ridge Wilderness\, these sessions offer a rare opportunity to practice in a setting that honors both the creative power of the human spirit and the stark beauty of the natural world. Led by Desirae Penton-Crosley\, Dragon Asana is rooted in the philosophy of the I Ching\, where the Dragon represents Creative Power. This method combines exact alignment with mindful inquiry\, guiding you through a practice that is both disciplined and deeply attentive. Whether you are a local resident or a traveler passing through our high-country home\, these classes provide the tools to cultivate resilience and lasting transformation on and off the mat.
URL:https://gunnisoncrestedbutte.com/event/art-of-alignment/
LOCATION:Terrible Mountain Gallery\, 409 Main St\, Pitkin\, CO\, 81241\, United States
CATEGORIES:Classes & Lectures,Education,Family-Friendly,Teen
ATTACH;FMTTYPE=image/jpeg:https://gunnisoncrestedbutte.com/wp-content/uploads/IMG_42301-PkEIOx.jpg
END:VEVENT
BEGIN:VEVENT
DTSTART;TZID=America/Denver:20260721T090000
DTEND;TZID=America/Denver:20260721T100000
DTSTAMP:20260421T213550
CREATED:20260421T184220Z
LAST-MODIFIED:20260421T184220Z
UID:57395-1784624400-1784628000@gunnisoncrestedbutte.com
SUMMARY:Art of Alignment
DESCRIPTION:In the heart of the Quartz Creek Valley\, where the echoes of history meet the stillness of the wild\, we invite you to find your center. Held within the walls of a historic 1898 saloon turned fine art gallery\, The Art of Alignment is more than a yoga class-it is a weekly sanctuary for those seeking purpose\, precision\, and presence in this remote landscape. Every Tuesday morning Terrible Mountain Gallery transforms into a space of intentional movement. Surrounded by curated art and the rugged beauty of the Fossil Ridge Wilderness\, these sessions offer a rare opportunity to practice in a setting that honors both the creative power of the human spirit and the stark beauty of the natural world. Led by Desirae Penton-Crosley\, Dragon Asana is rooted in the philosophy of the I Ching\, where the Dragon represents Creative Power. This method combines exact alignment with mindful inquiry\, guiding you through a practice that is both disciplined and deeply attentive. Whether you are a local resident or a traveler passing through our high-country home\, these classes provide the tools to cultivate resilience and lasting transformation on and off the mat.
URL:https://gunnisoncrestedbutte.com/event/art-of-alignment-8/
LOCATION:Terrible Mountain Gallery\, 409 Main St\, Pitkin\, CO\, 81241\, United States
CATEGORIES:Classes & Lectures,Education,Family-Friendly,Teen
ATTACH;FMTTYPE=image/jpeg:https://gunnisoncrestedbutte.com/wp-content/uploads/IMG_42302-FdyVbU.jpg
END:VEVENT
BEGIN:VEVENT
DTSTART;TZID=America/Denver:20260728T090000
DTEND;TZID=America/Denver:20260728T100000
DTSTAMP:20260421T213550
CREATED:20260421T183949Z
LAST-MODIFIED:20260421T184045Z
UID:57344-1785229200-1785232800@gunnisoncrestedbutte.com
SUMMARY:Art of Alignment
DESCRIPTION:In the heart of the Quartz Creek Valley\, where the echoes of history meet the stillness of the wild\, we invite you to find your center. Held within the walls of a historic 1898 saloon turned fine art gallery\, The Art of Alignment is more than a yoga class-it is a weekly sanctuary for those seeking purpose\, precision\, and presence in this remote landscape. Every Tuesday morning Terrible Mountain Gallery transforms into a space of intentional movement. Surrounded by curated art and the rugged beauty of the Fossil Ridge Wilderness\, these sessions offer a rare opportunity to practice in a setting that honors both the creative power of the human spirit and the stark beauty of the natural world. Led by Desirae Penton-Crosley\, Dragon Asana is rooted in the philosophy of the I Ching\, where the Dragon represents Creative Power. This method combines exact alignment with mindful inquiry\, guiding you through a practice that is both disciplined and deeply attentive. Whether you are a local resident or a traveler passing through our high-country home\, these classes provide the tools to cultivate resilience and lasting transformation on and off the mat.
URL:https://gunnisoncrestedbutte.com/event/art-of-alignment-2/
LOCATION:Terrible Mountain Gallery\, 409 Main St\, Pitkin\, CO\, 81241\, United States
CATEGORIES:Classes & Lectures,Education,Family-Friendly,Teen
ATTACH;FMTTYPE=image/jpeg:https://gunnisoncrestedbutte.com/wp-content/uploads/IMG_42303-KHJHgW.jpg
END:VEVENT
END:VCALENDAR