BEGIN:VCALENDAR
VERSION:2.0
PRODID:-//Crested Butte + Gunnison - ECPv6.15.20//NONSGML v1.0//EN
CALSCALE:GREGORIAN
METHOD:PUBLISH
X-ORIGINAL-URL:https://gunnisoncrestedbutte.com
X-WR-CALDESC:Events for Crested Butte + Gunnison
REFRESH-INTERVAL;VALUE=DURATION:PT1H
X-Robots-Tag:noindex
X-PUBLISHED-TTL:PT1H
BEGIN:VTIMEZONE
TZID:America/Denver
BEGIN:DAYLIGHT
TZOFFSETFROM:-0700
TZOFFSETTO:-0600
TZNAME:MDT
DTSTART:20250309T090000
END:DAYLIGHT
BEGIN:STANDARD
TZOFFSETFROM:-0600
TZOFFSETTO:-0700
TZNAME:MST
DTSTART:20251102T080000
END:STANDARD
BEGIN:DAYLIGHT
TZOFFSETFROM:-0700
TZOFFSETTO:-0600
TZNAME:MDT
DTSTART:20260308T090000
END:DAYLIGHT
BEGIN:STANDARD
TZOFFSETFROM:-0600
TZOFFSETTO:-0700
TZNAME:MST
DTSTART:20261101T080000
END:STANDARD
BEGIN:DAYLIGHT
TZOFFSETFROM:-0700
TZOFFSETTO:-0600
TZNAME:MDT
DTSTART:20270314T090000
END:DAYLIGHT
BEGIN:STANDARD
TZOFFSETFROM:-0600
TZOFFSETTO:-0700
TZNAME:MST
DTSTART:20271107T080000
END:STANDARD
END:VTIMEZONE
BEGIN:VEVENT
DTSTART;TZID=America/Denver:20260109T173000
DTEND;TZID=America/Denver:20260109T173000
DTSTAMP:20260422T080812
CREATED:20251223T215650Z
LAST-MODIFIED:20251223T215650Z
UID:55515-1767979800-1767979800@gunnisoncrestedbutte.com
SUMMARY:Date Night/Friends Night Wheel Throwing
DESCRIPTION:Try the Wheel: Date Night / Friends Night | Ages 15+ January 9. 5:30-7:30 PM Spin the wheel with friends or a partner in this relaxed\, beginner-friendly evening of clay play. No experience needed for an evening of laughter and clay-splattered memories. Instructor: Lauren Roullier $50 Non-Member | $42 Member
URL:https://gunnisoncrestedbutte.com/event/date-night-friends-night-wheel-throwing/
LOCATION:Gunnison Arts Center\, 102 South Main St\, Gunnison\, CO\, 81230\, United States
CATEGORIES:Adult Only,Arts,Classes & Lectures,Culture & Heritage,Education,Recreation,Teen
ATTACH;FMTTYPE=image/jpeg:https://gunnisoncrestedbutte.com/wp-content/uploads/IMG_4128-hYeB0a.jpg
END:VEVENT
BEGIN:VEVENT
DTSTART;TZID=America/Denver:20260109T210000
DTEND;TZID=America/Denver:20260109T210000
DTSTAMP:20260422T080812
CREATED:20260106T205402Z
LAST-MODIFIED:20260106T205402Z
UID:55608-1767992400-1767992400@gunnisoncrestedbutte.com
SUMMARY:Karaoke Night
DESCRIPTION:
URL:https://gunnisoncrestedbutte.com/event/karaoke-night-3/
LOCATION:Blackstock Bistro\, 122 W Tomichi\, Gunnison\, CO\, 81230\, United States
CATEGORIES:Adult Only,Free,Fundraisers & Parties,Performances & Shows
ATTACH;FMTTYPE=image/jpeg:https://gunnisoncrestedbutte.com/wp-content/uploads/jan.karaoke-ccQ3ow.jpg
END:VEVENT
END:VCALENDAR