BEGIN:VCALENDAR
VERSION:2.0
PRODID:-//Crested Butte + Gunnison - ECPv6.15.15//NONSGML v1.0//EN
CALSCALE:GREGORIAN
METHOD:PUBLISH
X-WR-CALNAME:Crested Butte + Gunnison
X-ORIGINAL-URL:https://gunnisoncrestedbutte.com
X-WR-CALDESC:Events for Crested Butte + Gunnison
REFRESH-INTERVAL;VALUE=DURATION:PT1H
X-Robots-Tag:noindex
X-PUBLISHED-TTL:PT1H
BEGIN:VTIMEZONE
TZID:America/Denver
BEGIN:DAYLIGHT
TZOFFSETFROM:-0700
TZOFFSETTO:-0600
TZNAME:MDT
DTSTART:20250309T090000
END:DAYLIGHT
BEGIN:STANDARD
TZOFFSETFROM:-0600
TZOFFSETTO:-0700
TZNAME:MST
DTSTART:20251102T080000
END:STANDARD
BEGIN:DAYLIGHT
TZOFFSETFROM:-0700
TZOFFSETTO:-0600
TZNAME:MDT
DTSTART:20260308T090000
END:DAYLIGHT
BEGIN:STANDARD
TZOFFSETFROM:-0600
TZOFFSETTO:-0700
TZNAME:MST
DTSTART:20261101T080000
END:STANDARD
BEGIN:DAYLIGHT
TZOFFSETFROM:-0700
TZOFFSETTO:-0600
TZNAME:MDT
DTSTART:20270314T090000
END:DAYLIGHT
BEGIN:STANDARD
TZOFFSETFROM:-0600
TZOFFSETTO:-0700
TZNAME:MST
DTSTART:20271107T080000
END:STANDARD
END:VTIMEZONE
BEGIN:VEVENT
DTSTART;TZID=America/Denver:20260116T170000
DTEND;TZID=America/Denver:20260116T220000
DTSTAMP:20260419T093259
CREATED:20260106T194455Z
LAST-MODIFIED:20260106T194455Z
UID:55578-1768582800-1768600800@gunnisoncrestedbutte.com
SUMMARY:The Relative Minors @ billy barr
DESCRIPTION:Set break 7-8pm
URL:https://gunnisoncrestedbutte.com/event/the-relative-minors-billy-barr/
LOCATION:billy bar at Elevation Hotel\, 500 Gothic Rd 2nd Level\, Mt. Crested Butte\, CO\, 81224\, United States
CATEGORIES:Family-Friendly,Free,Performances & Shows
ATTACH;FMTTYPE=image/jpeg:https://gunnisoncrestedbutte.com/wp-content/uploads/default-sunset-2500.jpg
END:VEVENT
BEGIN:VEVENT
DTSTART;TZID=America/Denver:20260116T200000
DTEND;TZID=America/Denver:20260116T230000
DTSTAMP:20260419T093259
CREATED:20260113T191637Z
LAST-MODIFIED:20260113T191637Z
UID:55873-1768593600-1768604400@gunnisoncrestedbutte.com
SUMMARY:Julian Young live @ The Whammy Bar
DESCRIPTION:
URL:https://gunnisoncrestedbutte.com/event/julian-young-live-the-whammy-bar-4/
LOCATION:The Whammy Bar\, 126 N Main\, Gunnison\, CO\, 81230\, United States
CATEGORIES:Free,Performances & Shows
ATTACH;FMTTYPE=image/jpeg:https://gunnisoncrestedbutte.com/wp-content/uploads/default-sunset-2500.jpg
END:VEVENT
END:VCALENDAR