BEGIN:VCALENDAR
VERSION:2.0
PRODID:-//Crested Butte + Gunnison - ECPv6.15.15//NONSGML v1.0//EN
CALSCALE:GREGORIAN
METHOD:PUBLISH
X-WR-CALNAME:Crested Butte + Gunnison
X-ORIGINAL-URL:https://gunnisoncrestedbutte.com
X-WR-CALDESC:Events for Crested Butte + Gunnison
REFRESH-INTERVAL;VALUE=DURATION:PT1H
X-Robots-Tag:noindex
X-PUBLISHED-TTL:PT1H
BEGIN:VTIMEZONE
TZID:America/Denver
BEGIN:DAYLIGHT
TZOFFSETFROM:-0700
TZOFFSETTO:-0600
TZNAME:MDT
DTSTART:20240310T090000
END:DAYLIGHT
BEGIN:STANDARD
TZOFFSETFROM:-0600
TZOFFSETTO:-0700
TZNAME:MST
DTSTART:20241103T080000
END:STANDARD
BEGIN:DAYLIGHT
TZOFFSETFROM:-0700
TZOFFSETTO:-0600
TZNAME:MDT
DTSTART:20250309T090000
END:DAYLIGHT
BEGIN:STANDARD
TZOFFSETFROM:-0600
TZOFFSETTO:-0700
TZNAME:MST
DTSTART:20251102T080000
END:STANDARD
BEGIN:DAYLIGHT
TZOFFSETFROM:-0700
TZOFFSETTO:-0600
TZNAME:MDT
DTSTART:20260308T090000
END:DAYLIGHT
BEGIN:STANDARD
TZOFFSETFROM:-0600
TZOFFSETTO:-0700
TZNAME:MST
DTSTART:20261101T080000
END:STANDARD
END:VTIMEZONE
BEGIN:VEVENT
DTSTART;TZID=America/Denver:20250501T123000
DTEND;TZID=America/Denver:20250501T133000
DTSTAMP:20260419T093258
CREATED:20250325T164422Z
LAST-MODIFIED:20250325T164422Z
UID:50585-1746102600-1746106200@gunnisoncrestedbutte.com
SUMMARY:Lunchtime Still Life 16+
DESCRIPTION:Take a creative break during your day and join artist Karolina Szumilas for an inspiring hour-long lunchtime still life class. This session is perfect for beginners and experienced artists alike\, offering a chance to unwind\, explore your creativity\, and refine your skills in a relaxed and supportive atmosphere. Use various mediums and create a masterpiece!
URL:https://gunnisoncrestedbutte.com/event/lunchtime-still-life-16-6/
LOCATION:Gunnison Arts Center\, 102 South Main St\, Gunnison\, CO\, 81230\, United States
CATEGORIES:Arts,Classes & Lectures,Culture & Heritage,Education
ATTACH;FMTTYPE=image/png:https://gunnisoncrestedbutte.com/wp-content/uploads/Still20LIfe4-oaRmfU.tmp_.png
END:VEVENT
BEGIN:VEVENT
DTSTART;TZID=America/Denver:20250501T173000
DTEND;TZID=America/Denver:20250501T210000
DTSTAMP:20260419T093258
CREATED:20250429T194843Z
LAST-MODIFIED:20250429T194843Z
UID:51377-1746120600-1746133200@gunnisoncrestedbutte.com
SUMMARY:Student Film Night
DESCRIPTION:Join us on Thurs\, May 1 at the UC Theater from 5:30-9:00pm\, for the annual Student Film Night! The program features student films from Fall 2024\, Spring 2025\, and the Senior Film Practicum Showcase. Intermission with appetizers is at 6:40. Concessions and drinks will be for sale throughout. Attendees are welcome to come and go between films\, as needed! Full program: 5:30-6:15- COM 264 Intro to Media Production 6:15-6:40- FALL 2024- COM 335 Intermediate Production + COM 385 Experimental Media Production 6:40-7:00- Intermission (Includes Appetizers in Lobby!) 7:00-7:30- COM 389 Media Production: Narrative 7:30-7:45- Awards + Acknowledgements 7:45-8:30- Senior Film Practicum Showcase Presented by the CALL Department and Mountaineer Media
URL:https://gunnisoncrestedbutte.com/event/student-film-night-2/
LOCATION:Western Colorado University\, 600 N. Adams St.\, Gunnison\, 81230
CATEGORIES:Classes & Lectures,Education,Free,Performances & Shows
ATTACH;FMTTYPE=image/jpeg:https://gunnisoncrestedbutte.com/wp-content/uploads/StudentFilmNight202025-gKlS1f.jpg
END:VEVENT
END:VCALENDAR